BEGIN:VCALENDAR
VERSION:2.0
PRODID:icalendar-ruby
CALSCALE:GREGORIAN
METHOD:PUBLISH
BEGIN:VEVENT
DTSTAMP:20260419T121204Z
UID:14-271986@fumcwinchester.com
DTSTART:20260426T150000Z
DTEND:20260426T153000Z
CLASS:PUBLIC
CREATED:20260325T133135
DESCRIPTION:Enjoy a time of fellowship and food with First Church immediate
 ly following Sunday worship! If able\, please bring a dish or drink option
  to share.
LAST-MODIFIED:20260325T133135
LOCATION:TVOR Chapel Parlor\, 400 Clocktower Ridge Drive\, Winchester\, VA
SUMMARY:4th Sunday Fellowship
URL;VALUE=URI:https://www.fumcwinchester.com/events/4th-sunday-fellowship/2
 026-04-26
ATTACH;FILENAME=4591.jpg;FMTTYPE=image/jpeg:https://dq5pwpg1q8ru0.cloudfron
 t.net/2026/03/25/17/31/35/2f5ec756-71d8-43cf-b42c-f3fd24fb81fc/4591.jpg
END:VEVENT
END:VCALENDAR
