BEGIN:VCALENDAR
VERSION:2.0
PRODID:icalendar-ruby
CALSCALE:GREGORIAN
METHOD:PUBLISH
BEGIN:VEVENT
DTSTAMP:20260419T141555Z
UID:25-272008@fumcwinchester.com
DTSTART;VALUE=DATE:20261225
DTEND;VALUE=DATE:20261225
CLASS:PUBLIC
CREATED:20260325T152735
DESCRIPTION:Christ is born! We hope you have a festive\, cozy\, and faith-f
 illed Christmas holiday with your loved ones. Please know that our First C
 hurch staff is off today.
LAST-MODIFIED:20260325T152735
LOCATION:
SUMMARY:Christmas Holiday
URL;VALUE=URI:https://www.fumcwinchester.com/events/christmas-holiday/2026-
 12-25
ATTACH;FILENAME=FRP9v.jpg;FMTTYPE=image/jpeg:https://dq5pwpg1q8ru0.cloudfro
 nt.net/2026/03/25/19/27/34/8134b43e-17c6-4403-9b50-280454789879/FRP9v.jpg
END:VEVENT
END:VCALENDAR
