BEGIN:VCALENDAR
VERSION:2.0
PRODID:icalendar-ruby
CALSCALE:GREGORIAN
METHOD:PUBLISH
BEGIN:VEVENT
DTSTAMP:20260419T194052Z
UID:17-271996@fumcwinchester.com
DTSTART:20261008T224500Z
DTEND:20261009T004500Z
CLASS:PUBLIC
CREATED:20260325T150942
DESCRIPTION:The Administrative Leadership Team typically meets at 6:45 p.m.
  at the Roberts St. church office on the second Thursday of each month to 
 discuss and conduct church business. If you have any questions\, please re
 ach out to the church office at fumcoffice@fumcwinchester.org. 
LAST-MODIFIED:20260325T150942
LOCATION:1824 Roberts St. Winchester\, VA 22601
SUMMARY:FUMC Leadership Team Meeting
URL;VALUE=URI:https://www.fumcwinchester.com/events/fumc-leadership-team-me
 eting/2026-10-08
ATTACH;FILENAME=FxGXk.jpg;FMTTYPE=image/jpeg:https://dq5pwpg1q8ru0.cloudfro
 nt.net/2026/03/25/19/09/42/382956c3-593d-4dba-a825-6da50ed28619/FxGXk.jpg
END:VEVENT
END:VCALENDAR
