BEGIN:VCALENDAR
VERSION:2.0
PRODID:icalendar-ruby
CALSCALE:GREGORIAN
METHOD:PUBLISH
BEGIN:VEVENT
DTSTAMP:20260419T140543Z
UID:20-272003@fumcwinchester.com
DTSTART;VALUE=DATE:20260704
DTEND;VALUE=DATE:20260704
CLASS:PUBLIC
CREATED:20260325T151738
DESCRIPTION:We hope you have a wonderful and festive Independence Day holid
 ay with your loved ones. Please know that our First Church staff is off to
 day.
LAST-MODIFIED:20260325T151738
LOCATION:
SUMMARY:Independence Day Holiday
URL;VALUE=URI:https://www.fumcwinchester.com/events/independence-day-holida
 y/2026-07-04
ATTACH;FILENAME=IMG_1658.JPG;FMTTYPE=image/jpeg:https://dq5pwpg1q8ru0.cloud
 front.net/2026/03/25/19/14/57/44847bed-f026-4f57-ae6d-7226bdd484dc/IMG_165
 8.JPG
END:VEVENT
END:VCALENDAR
