BEGIN:VCALENDAR
VERSION:2.0
PRODID:icalendar-ruby
CALSCALE:GREGORIAN
METHOD:PUBLISH
BEGIN:VEVENT
DTSTAMP:20260419T141042Z
UID:22-272004@fumcwinchester.com
DTSTART;VALUE=DATE:20261012
DTEND;VALUE=DATE:20261012
CLASS:PUBLIC
CREATED:20260325T151845
DESCRIPTION:We hope you have a wonderful and reflective Indigenous Peoples'
  Day holiday with your loved ones. Please know that our First Church staff
  is off today.
LAST-MODIFIED:20260325T151845
LOCATION:
SUMMARY:Indigenous Peoples' Day
URL;VALUE=URI:https://www.fumcwinchester.com/events/indigenous-peoples-day/
 2026-10-12
ATTACH;FILENAME=IMG_6395.JPEG;FMTTYPE=image/jpeg:https://dq5pwpg1q8ru0.clou
 dfront.net/2026/03/25/19/18/45/2c6ad295-2630-4445-8d55-e3e6757498bd/IMG_63
 95.JPEG
END:VEVENT
END:VCALENDAR
