BEGIN:VCALENDAR
VERSION:2.0
PRODID:icalendar-ruby
CALSCALE:GREGORIAN
METHOD:PUBLISH
BEGIN:VEVENT
DTSTAMP:20260419T121923Z
UID:19-272000@fumcwinchester.com
DTSTART;VALUE=DATE:20260619
DTEND;VALUE=DATE:20260619
CLASS:PUBLIC
CREATED:20260325T151352
DESCRIPTION:We hope you have a wonderful and reflective Juneteenth holiday 
 with your loved ones. Please know that our First Church staff is off today
 .
LAST-MODIFIED:20260325T151352
LOCATION:
SUMMARY:Juneteenth Holiday
URL;VALUE=URI:https://www.fumcwinchester.com/events/juneteenth-holiday/2026
 -06-19
ATTACH;FILENAME=FwnLx.jpg;FMTTYPE=image/jpeg:https://dq5pwpg1q8ru0.cloudfro
 nt.net/2026/03/25/19/13/51/4780175b-a267-464d-9dbe-09a2e8ae2bd0/FwnLx.jpg
END:VEVENT
END:VCALENDAR
