BEGIN:VCALENDAR
VERSION:2.0
PRODID:icalendar-ruby
CALSCALE:GREGORIAN
METHOD:PUBLISH
BEGIN:VEVENT
DTSTAMP:20260419T141345Z
UID:21-272002@fumcwinchester.com
DTSTART;VALUE=DATE:20260907
DTEND;VALUE=DATE:20260907
CLASS:PUBLIC
CREATED:20260325T151656
DESCRIPTION:We hope you have a relaxing Labor Day holiday with your loved o
 nes. Please know that our First Church staff is off today.
LAST-MODIFIED:20260325T151656
LOCATION:
SUMMARY:Labor Day Holiday
URL;VALUE=URI:https://www.fumcwinchester.com/events/labor-day-holiday/2026-
 09-07
ATTACH;FILENAME=FBBc0.jpg;FMTTYPE=image/jpeg:https://dq5pwpg1q8ru0.cloudfro
 nt.net/2026/03/25/19/16/56/246463a7-ff2f-4164-bbc4-191918d20882/FBBc0.jpg
END:VEVENT
END:VCALENDAR
