BEGIN:VCALENDAR
VERSION:2.0
PRODID:icalendar-ruby
CALSCALE:GREGORIAN
METHOD:PUBLISH
BEGIN:VEVENT
DTSTAMP:20260419T122312Z
UID:18-271999@fumcwinchester.com
DTSTART;VALUE=DATE:20260525
DTEND;VALUE=DATE:20260525
CLASS:PUBLIC
CREATED:20260325T151230
DESCRIPTION:We hope you have a wonderful Memorial Day holiday with your lov
 ed ones. Please know that our First Church staff is off today.
LAST-MODIFIED:20260325T151230
LOCATION:
SUMMARY:Memorial Day Holiday
URL;VALUE=URI:https://www.fumcwinchester.com/events/memorial-day-holiday/20
 26-05-25
ATTACH;FILENAME=IMG_6395.JPEG;FMTTYPE=image/jpeg:https://dq5pwpg1q8ru0.clou
 dfront.net/2026/03/25/19/12/30/e24a4881-1c26-4a63-a08d-ad13192e802d/IMG_63
 95.JPEG
END:VEVENT
END:VCALENDAR
