BEGIN:VCALENDAR
VERSION:2.0
PRODID:icalendar-ruby
CALSCALE:GREGORIAN
METHOD:PUBLISH
BEGIN:VEVENT
DTSTAMP:20260419T141247Z
UID:26-272009@fumcwinchester.com
DTSTART;VALUE=DATE:20270101
DTEND;VALUE=DATE:20270101
CLASS:PUBLIC
CREATED:20260325T152836
DESCRIPTION:We hope you have a festive New Year's Day holiday with your lov
 ed ones. Please know that our First Church staff is off today.
LAST-MODIFIED:20260325T152836
LOCATION:
SUMMARY:New Year's Day 
URL;VALUE=URI:https://www.fumcwinchester.com/events/new-years-day/2027-01-0
 1
ATTACH;FILENAME=FRP9v.jpg;FMTTYPE=image/jpeg:https://dq5pwpg1q8ru0.cloudfro
 nt.net/2026/03/25/19/28/36/34e524d7-cc73-44a8-85bd-8af36437c46d/FRP9v.jpg
END:VEVENT
END:VCALENDAR
