BEGIN:VCALENDAR
VERSION:2.0
PRODID:icalendar-ruby
CALSCALE:GREGORIAN
METHOD:PUBLISH
BEGIN:VEVENT
DTSTAMP:20260419T123548Z
UID:16-271989@fumcwinchester.com
DTSTART:20260519T153000Z
DTEND:20260519T170000Z
CLASS:PUBLIC
CREATED:20260325T145836
DESCRIPTION:Our Senior Adult Ministry is all about good company\, great con
 versation\, and enjoying life together. Open to adults of all ages - but e
 specially loved by our senior members - this group gathers regularly for f
 ellowship\, fun\, and meaningful connection. Each month\, we head out on t
 he third Tuesday to enjoy lunch at a different restaurant around Wincheste
 r - because everything is better when shared over a good meal!
LAST-MODIFIED:20260325T145836
LOCATION:TBD
SUMMARY:Senior Adult Ministry Luncheon
URL;VALUE=URI:https://www.fumcwinchester.com/events/senior-adult-ministry-l
 uncheon--16/2026-05-19
ATTACH;FILENAME=7054696409702551951.jpg;FMTTYPE=image/jpeg:https://dq5pwpg1
 q8ru0.cloudfront.net/2026/03/25/18/58/36/81a8d275-b424-4add-b50a-d6c14d9d5
 b64/7054696409702551951.jpg
END:VEVENT
END:VCALENDAR
