BEGIN:VCALENDAR
VERSION:2.0
PRODID:icalendar-ruby
CALSCALE:GREGORIAN
METHOD:PUBLISH
BEGIN:VEVENT
DTSTAMP:20260419T141005Z
UID:24-272006@fumcwinchester.com
DTSTART;VALUE=DATE:20261126
DTEND;VALUE=DATE:20261127
CLASS:PUBLIC
CREATED:20260325T152334
DESCRIPTION:We hope you have a wonderful and delicious Thanksgiving holiday
  with your loved ones. Please know that our First Church staff is off toda
 y.
LAST-MODIFIED:20260325T152334
LOCATION:
SUMMARY:Thanksgiving Holidays
URL;VALUE=URI:https://www.fumcwinchester.com/events/thanksgiving-holidays/2
 026-11-26
ATTACH;FILENAME=FAvmZ.jpg;FMTTYPE=image/jpeg:https://dq5pwpg1q8ru0.cloudfro
 nt.net/2026/03/25/19/23/34/a9b531be-60b4-4857-8bf3-274c0ee20391/FAvmZ.jpg
END:VEVENT
END:VCALENDAR
