BEGIN:VCALENDAR
VERSION:2.0
PRODID:icalendar-ruby
CALSCALE:GREGORIAN
METHOD:PUBLISH
BEGIN:VEVENT
DTSTAMP:20260419T141120Z
UID:23-272005@fumcwinchester.com
DTSTART;VALUE=DATE:20261111
DTEND;VALUE=DATE:20261111
CLASS:PUBLIC
CREATED:20260325T151958
DESCRIPTION:We hope you have a wonderful and reflective Veterans Day holida
 y with your loved ones. Please know that our First Church staff is off tod
 ay.
LAST-MODIFIED:20260325T151958
LOCATION:
SUMMARY:Veterans Day Holiday
URL;VALUE=URI:https://www.fumcwinchester.com/events/veterans-day-holiday/20
 26-11-11
ATTACH;FILENAME=FB67z.jpg;FMTTYPE=image/jpeg:https://dq5pwpg1q8ru0.cloudfro
 nt.net/2026/03/25/19/19/58/d95b4b06-b83a-4614-ac65-32a272e4a95e/FB67z.jpg
END:VEVENT
END:VCALENDAR
